BEGIN:VCALENDAR
VERSION:2.0
PRODID:-//Les Scouts Tunisiens - ECPv6.15.20//NONSGML v1.0//EN
CALSCALE:GREGORIAN
METHOD:PUBLISH
X-WR-CALNAME:Les Scouts Tunisiens
X-ORIGINAL-URL:https://scouts.tn
X-WR-CALDESC:Évènements pour Les Scouts Tunisiens
REFRESH-INTERVAL;VALUE=DURATION:PT1H
X-Robots-Tag:noindex
X-PUBLISHED-TTL:PT1H
BEGIN:VTIMEZONE
TZID:Europe/Paris
BEGIN:DAYLIGHT
TZOFFSETFROM:+0100
TZOFFSETTO:+0200
TZNAME:CEST
DTSTART:20250330T010000
END:DAYLIGHT
BEGIN:STANDARD
TZOFFSETFROM:+0200
TZOFFSETTO:+0100
TZNAME:CET
DTSTART:20251026T010000
END:STANDARD
BEGIN:DAYLIGHT
TZOFFSETFROM:+0100
TZOFFSETTO:+0200
TZNAME:CEST
DTSTART:20260329T010000
END:DAYLIGHT
BEGIN:STANDARD
TZOFFSETFROM:+0200
TZOFFSETTO:+0100
TZNAME:CET
DTSTART:20261025T010000
END:STANDARD
BEGIN:DAYLIGHT
TZOFFSETFROM:+0100
TZOFFSETTO:+0200
TZNAME:CEST
DTSTART:20270328T010000
END:DAYLIGHT
BEGIN:STANDARD
TZOFFSETFROM:+0200
TZOFFSETTO:+0100
TZNAME:CET
DTSTART:20271031T010000
END:STANDARD
END:VTIMEZONE
BEGIN:VEVENT
DTSTART;TZID=Europe/Paris:20260425T150000
DTEND;TZID=Europe/Paris:20260426T100000
DTSTAMP:20260424T230513
CREATED:20260411T090607Z
LAST-MODIFIED:20260411T090607Z
UID:17125-1777129200-1777197600@scouts.tn
SUMMARY:Réunion du Conseil Suprème
DESCRIPTION:
URL:https://scouts.tn/event/reunion-du-conseil-supreme-2/
LOCATION:Hammamet\, Tunisia
ORGANIZER;CN="Les Scouts Tunisiens":MAILTO:executive@scouts.tn
END:VEVENT
END:VCALENDAR